BEGIN:VCALENDAR
VERSION:2.0
PRODID:-//Renew Christian Church - ECPv6.15.17//NONSGML v1.0//EN
CALSCALE:GREGORIAN
METHOD:PUBLISH
X-WR-CALNAME:Renew Christian Church
X-ORIGINAL-URL:https://renewchristian.church
X-WR-CALDESC:Events for Renew Christian Church
REFRESH-INTERVAL;VALUE=DURATION:PT1H
X-Robots-Tag:noindex
X-PUBLISHED-TTL:PT1H
BEGIN:VTIMEZONE
TZID:America/New_York
BEGIN:DAYLIGHT
TZOFFSETFROM:-0500
TZOFFSETTO:-0400
TZNAME:EDT
DTSTART:20250309T070000
END:DAYLIGHT
BEGIN:STANDARD
TZOFFSETFROM:-0400
TZOFFSETTO:-0500
TZNAME:EST
DTSTART:20251102T060000
END:STANDARD
BEGIN:DAYLIGHT
TZOFFSETFROM:-0500
TZOFFSETTO:-0400
TZNAME:EDT
DTSTART:20260308T070000
END:DAYLIGHT
BEGIN:STANDARD
TZOFFSETFROM:-0400
TZOFFSETTO:-0500
TZNAME:EST
DTSTART:20261101T060000
END:STANDARD
BEGIN:DAYLIGHT
TZOFFSETFROM:-0500
TZOFFSETTO:-0400
TZNAME:EDT
DTSTART:20270314T070000
END:DAYLIGHT
BEGIN:STANDARD
TZOFFSETFROM:-0400
TZOFFSETTO:-0500
TZNAME:EST
DTSTART:20271107T060000
END:STANDARD
END:VTIMEZONE
BEGIN:VEVENT
DTSTART;TZID=America/New_York:20260112T190000
DTEND;TZID=America/New_York:20260112T200000
DTSTAMP:20260425T052439
CREATED:20251222T170028Z
LAST-MODIFIED:20251222T170028Z
UID:544-1768244400-1768248000@renewchristian.church
SUMMARY:BEMA Discipleship Class
DESCRIPTION:BEMA Discipleship Class – We have a BEMA discipleship class led by Alonzo Felder\, meeting at the church building on the 2nd and 4th Mondays of the month from 7:00 PM – 8:00 PM where we will discuss one to two episodes per meeting from Season 1 of the BEMA podcast itself. Reach out to info@renewchristian.church if you’d like more information or to join.
URL:https://renewchristian.church/event/bema-discipleship-class-12/
END:VEVENT
BEGIN:VEVENT
DTSTART;TZID=America/New_York:20260117T100000
DTEND;TZID=America/New_York:20260117T130000
DTSTAMP:20260425T052439
CREATED:20251222T165238Z
LAST-MODIFIED:20251222T165238Z
UID:515-1768644000-1768654800@renewchristian.church
SUMMARY:Meet Me at the Bridge Ministry
DESCRIPTION:Meet Me at the Bridge ministry gathers under the overpass across from the Durham Bulls stadium every third Saturday for a worship service\, meal\, and arranging a selection of clothing\, shoes\, and various toiletries needed by the homeless community of our area. There is set up before the worship service and meal\, along with tear down/clean up following the worship service\, meal\, and selection of items. Click the link to sign up for serving opportunities with this tri-city ministry! MMatB Sign Up
URL:https://renewchristian.church/event/meet-me-at-the-bridge-ministry-8/
END:VEVENT
BEGIN:VEVENT
DTSTART;TZID=America/New_York:20260120T183000
DTEND;TZID=America/New_York:20260120T200000
DTSTAMP:20260425T052439
CREATED:20251222T181253Z
LAST-MODIFIED:20251222T181253Z
UID:851-1768933800-1768939200@renewchristian.church
SUMMARY:Coverdale Community Group
DESCRIPTION:NW Durham/Latta Rd\, Tuesday nights. To get more information and see about making a connection\, go to: Community Groups Interest Form
URL:https://renewchristian.church/event/coverdale-community-group-20/
END:VEVENT
BEGIN:VEVENT
DTSTART;TZID=America/New_York:20260120T190000
DTEND;TZID=America/New_York:20260120T203000
DTSTAMP:20260425T052439
CREATED:20251222T180145Z
LAST-MODIFIED:20251222T180145Z
UID:788-1768935600-1768941000@renewchristian.church
SUMMARY:Felder Community Group
DESCRIPTION:N Durham\, Tuesday nights. To get more information and see about making a connection\, go to: Community Groups Interest Form
URL:https://renewchristian.church/event/felder-community-group-22/
END:VEVENT
BEGIN:VEVENT
DTSTART;TZID=America/New_York:20260121T090000
DTEND;TZID=America/New_York:20260121T103000
DTSTAMP:20260425T052439
CREATED:20251222T174911Z
LAST-MODIFIED:20251222T174911Z
UID:725-1768986000-1768991400@renewchristian.church
SUMMARY:Wednesday AM Community Group
DESCRIPTION:Meets at the church building each Wednesday. To get more information and see about making a connection\, go to: Community Groups Interest Form
URL:https://renewchristian.church/event/wednesday-am-community-group-20/
END:VEVENT
BEGIN:VEVENT
DTSTART;TZID=America/New_York:20260122T183000
DTEND;TZID=America/New_York:20260122T200000
DTSTAMP:20260425T052439
CREATED:20251222T173515Z
LAST-MODIFIED:20251222T173515Z
UID:665-1769106600-1769112000@renewchristian.church
SUMMARY:Freeman Community Group
DESCRIPTION:Cole Mill/NW Durham\, Thursday nights. To get more information and see about making a connection\, go to: Community Groups Interest Form
URL:https://renewchristian.church/event/freeman-community-group-19/
END:VEVENT
BEGIN:VEVENT
DTSTART;TZID=America/New_York:20260122T190000
DTEND;TZID=America/New_York:20260122T203000
DTSTAMP:20260425T052439
CREATED:20251222T171731Z
LAST-MODIFIED:20251222T171731Z
UID:600-1769108400-1769113800@renewchristian.church
SUMMARY:Orchard-Hays Community Group
DESCRIPTION:Chapel Hill\, Thursday nights. For more information and see about making a connection\, go to: Community Groups Interest Form
URL:https://renewchristian.church/event/orchard-hays-community-group-22/
END:VEVENT
BEGIN:VEVENT
DTSTART;TZID=America/New_York:20260126T190000
DTEND;TZID=America/New_York:20260126T200000
DTSTAMP:20260425T052439
CREATED:20251222T170045Z
LAST-MODIFIED:20251222T170045Z
UID:546-1769454000-1769457600@renewchristian.church
SUMMARY:BEMA Discipleship Class
DESCRIPTION:BEMA Discipleship Class – We have a BEMA discipleship class led by Alonzo Felder\, meeting at the church building on the 2nd and 4th Mondays of the month from 7:00 PM – 8:00 PM where we will discuss one to two episodes per meeting from Season 1 of the BEMA podcast itself. Reach out to info@renewchristian.church if you’d like more information or to join.
URL:https://renewchristian.church/event/bema-discipleship-class-13/
END:VEVENT
BEGIN:VEVENT
DTSTART;TZID=America/New_York:20260127T183000
DTEND;TZID=America/New_York:20260127T200000
DTSTAMP:20260425T052439
CREATED:20251222T181307Z
LAST-MODIFIED:20251222T181307Z
UID:853-1769538600-1769544000@renewchristian.church
SUMMARY:Coverdale Community Group
DESCRIPTION:NW Durham/Latta Rd\, Tuesday nights. To get more information and see about making a connection\, go to: Community Groups Interest Form
URL:https://renewchristian.church/event/coverdale-community-group-21/
END:VEVENT
BEGIN:VEVENT
DTSTART;TZID=America/New_York:20260127T190000
DTEND;TZID=America/New_York:20260127T203000
DTSTAMP:20260425T052439
CREATED:20251222T180205Z
LAST-MODIFIED:20251222T180205Z
UID:790-1769540400-1769545800@renewchristian.church
SUMMARY:Felder Community Group
DESCRIPTION:N Durham\, Tuesday nights. To get more information and see about making a connection\, go to: Community Groups Interest Form
URL:https://renewchristian.church/event/felder-community-group-23/
END:VEVENT
BEGIN:VEVENT
DTSTART;TZID=America/New_York:20260128T090000
DTEND;TZID=America/New_York:20260128T103000
DTSTAMP:20260425T052439
CREATED:20251222T174926Z
LAST-MODIFIED:20251222T174926Z
UID:727-1769590800-1769596200@renewchristian.church
SUMMARY:Wednesday AM Community Group
DESCRIPTION:Meets at the church building each Wednesday. To get more information and see about making a connection\, go to: Community Groups Interest Form
URL:https://renewchristian.church/event/wednesday-am-community-group-21/
END:VEVENT
BEGIN:VEVENT
DTSTART;TZID=America/New_York:20260129T183000
DTEND;TZID=America/New_York:20260129T200000
DTSTAMP:20260425T052439
CREATED:20251222T173529Z
LAST-MODIFIED:20251222T173529Z
UID:667-1769711400-1769716800@renewchristian.church
SUMMARY:Freeman Community Group
DESCRIPTION:Cole Mill/NW Durham\, Thursday nights. To get more information and see about making a connection\, go to: Community Groups Interest Form
URL:https://renewchristian.church/event/freeman-community-group-20/
END:VEVENT
BEGIN:VEVENT
DTSTART;TZID=America/New_York:20260129T190000
DTEND;TZID=America/New_York:20260129T203000
DTSTAMP:20260425T052439
CREATED:20251222T171746Z
LAST-MODIFIED:20251222T171746Z
UID:602-1769713200-1769718600@renewchristian.church
SUMMARY:Orchard-Hays Community Group
DESCRIPTION:Chapel Hill\, Thursday nights. For more information and see about making a connection\, go to: Community Groups Interest Form
URL:https://renewchristian.church/event/orchard-hays-community-group-23/
END:VEVENT
END:VCALENDAR